BEGIN:VCALENDAR
VERSION:2.0
PRODID:-//COST Action ENTER - ECPv6.15.20//NONSGML v1.0//EN
CALSCALE:GREGORIAN
METHOD:PUBLISH
X-WR-CALNAME:COST Action ENTER
X-ORIGINAL-URL:https://foreignpolicynewrealities.eu
X-WR-CALDESC:Events for COST Action ENTER
REFRESH-INTERVAL;VALUE=DURATION:PT1H
X-Robots-Tag:noindex
X-PUBLISHED-TTL:PT1H
BEGIN:VTIMEZONE
TZID:Europe/Berlin
BEGIN:DAYLIGHT
TZOFFSETFROM:+0100
TZOFFSETTO:+0200
TZNAME:CEST
DTSTART:20210328T010000
END:DAYLIGHT
BEGIN:STANDARD
TZOFFSETFROM:+0200
TZOFFSETTO:+0100
TZNAME:CET
DTSTART:20211031T010000
END:STANDARD
BEGIN:DAYLIGHT
TZOFFSETFROM:+0100
TZOFFSETTO:+0200
TZNAME:CEST
DTSTART:20220327T010000
END:DAYLIGHT
BEGIN:STANDARD
TZOFFSETFROM:+0200
TZOFFSETTO:+0100
TZNAME:CET
DTSTART:20221030T010000
END:STANDARD
BEGIN:DAYLIGHT
TZOFFSETFROM:+0100
TZOFFSETTO:+0200
TZNAME:CEST
DTSTART:20230326T010000
END:DAYLIGHT
BEGIN:STANDARD
TZOFFSETFROM:+0200
TZOFFSETTO:+0100
TZNAME:CET
DTSTART:20231029T010000
END:STANDARD
END:VTIMEZONE
BEGIN:VEVENT
DTSTART;VALUE=DATE:20220622
DTEND;VALUE=DATE:20220626
DTSTAMP:20260415T184928
CREATED:20221016T204533Z
LAST-MODIFIED:20221030T183200Z
UID:41962-1655856000-1656201599@foreignpolicynewrealities.eu
SUMMARY:Summer School – Simulating EU-decision making
DESCRIPTION:Organizers:\n• Friedrich Plank\, Johannes Gutenberg University Mainz\n• Arne Niemann\, Johannes Gutenberg University Mainz\n• Michèle Knodt\, Technical University of Darmstadt \nVenue:\nJohannes Gutenberg University Mainz\, Jakob Welder Weg 12\, 55128 Mainz\, Germany \nProgram highlights:\n• Simulating EU-decision-making in the European Parliament and Council of the EU in an international setting\n• Focus on EU migration policies and the EU´s fight against climate change\n• Social and network program in Mainz \nProgram at a glance:\nIn this summer school\, participants simulated European Union (EU) decision-making in Model European Union Mainz (MEUM). Around 80 participants from all over the world came to Mainz\, Germany\, for the simulation of the ordinary legislative procedure. Participants slipped into the roles of national Ministers\, Members of the European Parliament and journalists. The Summer School offered the chance to get a first-hand insight into the workings of the complex political system that is the European Union. Starting point for the debate were two proposals that relate to EU migration policies and the EU´s fight against climate change for legislation drafted by the European Commission. Participants\, in their roles as MEPs and Ministers\, delivered speeches\, work on amendments to the proposal texts\, and organize majorities in order to adopt their suggestions for changes to the legislation\, while journalists monitored and critically reported on this political process.\nThe Summer School targeted primarily early career researchers but welcomed also experienced analysts and practitioners interested in EU decision-making processes. \nFull Agenda \nCall for Participation
URL:https://foreignpolicynewrealities.eu/event/summer-school-simulating-eu-decision-making/
CATEGORIES:Participate,Training Schools
ATTACH;FMTTYPE=image/jpeg:https://foreignpolicynewrealities.eu/wp-content/uploads/2022/10/Bild_Homepage-scaled.jpg
ORGANIZER;CN="Prof. Dr. Mich%C3%A8le Knodt (Technische Universit%C3%A4t Darmstadt%2C Germany)":MAILTO:info@foreignpolicynewrealities.eu
END:VEVENT
END:VCALENDAR